BEGIN:VCALENDAR
VERSION:2.0
PRODID:-//Vitarade® - ECPv6.3.3//NONSGML v1.0//EN
CALSCALE:GREGORIAN
METHOD:PUBLISH
X-ORIGINAL-URL:https://vitarade.com
X-WR-CALDESC:Events for Vitarade®
REFRESH-INTERVAL;VALUE=DURATION:PT1H
X-Robots-Tag:noindex
X-PUBLISHED-TTL:PT1H
BEGIN:VTIMEZONE
TZID:Europe/Warsaw
BEGIN:DAYLIGHT
TZOFFSETFROM:+0100
TZOFFSETTO:+0200
TZNAME:CEST
DTSTART:20230326T010000
END:DAYLIGHT
BEGIN:STANDARD
TZOFFSETFROM:+0200
TZOFFSETTO:+0100
TZNAME:CET
DTSTART:20231029T010000
END:STANDARD
END:VTIMEZONE
BEGIN:VEVENT
DTSTART;VALUE=DATE:20230826
DTEND;VALUE=DATE:20230828
DTSTAMP:20260421T144245
CREATED:20230811T154248Z
LAST-MODIFIED:20230811T154248Z
UID:4581-1693008000-1693180799@vitarade.com
SUMMARY:Runmageddon Wrocław
DESCRIPTION:26-27 sierpnia w podwrocławskie Rolantowice będą gościć kolejną edycję Runmageddon – to idealna okazja do sprawdzenia swoich sił w niezwykłych wyzwaniach. . Tym razem przeniesiemy się na malownicze\, piaszczyste tereny kopalni piasku\, które zapewnią niesamowitą atmosferę i niepowtarzalne doznania dla wszystkich uczestników
URL:https://vitarade.com/event/runmageddon-wroclaw/
LOCATION:Wrocław\, Rolantowice
CATEGORIES:Runmageddon
ATTACH;FMTTYPE=image/jpeg:https://vitarade.com/wp-content/uploads/2023/08/rmg7_a.jpg
END:VEVENT
BEGIN:VEVENT
DTSTART;VALUE=DATE:20230805
DTEND;VALUE=DATE:20230806
DTSTAMP:20260421T144245
CREATED:20230811T154138Z
LAST-MODIFIED:20230811T154138Z
UID:4578-1691193600-1691279999@vitarade.com
SUMMARY:Runmageddon Ostrołęka
DESCRIPTION:Wyjątkowe wydarzenie w Ostrołęce! Już 5 sierpnia Runmageddon obiecuje pełne ekscytacji bieganie z przeszkodami. Na trasie oczywiście spotkacie niezawodny RMG
URL:https://vitarade.com/event/runmageddon-ostroleka/
LOCATION:Ostrołęka
CATEGORIES:Runmageddon
ATTACH;FMTTYPE=image/jpeg:https://vitarade.com/wp-content/uploads/2023/08/rmg7_a.jpg
END:VEVENT
BEGIN:VEVENT
DTSTART;VALUE=DATE:20230722
DTEND;VALUE=DATE:20230724
DTSTAMP:20260421T144245
CREATED:20230811T153939Z
LAST-MODIFIED:20230811T154029Z
UID:4570-1689984000-1690156799@vitarade.com
SUMMARY:Runmageddon Harrachov
DESCRIPTION:Już 22-23 lipca Harrachov stanie się areną ekstremalnego biegu przełajowego – Harrachov Runmageddon. Przeszkody\, trudny teren i malownicze krajobrazy to gwarancja niezapomnianych wrażeń!
URL:https://vitarade.com/event/4570/
LOCATION:Harrachov
CATEGORIES:Runmageddon
ATTACH;FMTTYPE=image/jpeg:https://vitarade.com/wp-content/uploads/2023/08/rmg7_a.jpg
END:VEVENT
BEGIN:VEVENT
DTSTART;TZID=Europe/Warsaw:20230624T090000
DTEND;TZID=Europe/Warsaw:20230624T170000
DTSTAMP:20260421T144245
CREATED:20230331T112336Z
LAST-MODIFIED:20230331T112336Z
UID:2323-1687597200-1687626000@vitarade.com
SUMMARY:Runmageddon Bydgoszcz
DESCRIPTION:W Bydgoszczy jeszcze nas nie było!\nCo wy na to\, żeby rozpocząć sezon wakacyjny na Kujawach? Nam to pasuje! \n24 czerwca mamy nadzieję spotkać rzesze miłośników ostrego wycisku w Bydgoszczy. Dla wszystkich Runmageddonowiczów ufundowaliśmy energetyczne żele i batony od Vitarade®. Zwycięzcy kategorii Elite otrzymają dodatkowo cenne nagrody o wartości ponad 3 tysięcy złotych! \nW naszym firmowym namiocie jak zwykle czeka was pozytywna dawka energii z najlepszymi suplementami. A do tego konkursy\, nagrody i degustacje. Koniecznie do nas zajrzyjcie! \nFirmowy Team Vitarade® wystartuje razem z Wami\, a że mamy już wprawę nie tak łatwo będzie nas przegonić. \nDo zobaczenia w Bydgoszczy.
URL:https://vitarade.com/event/runmageddon-bydgoszcz/
LOCATION:Bydgoszcz\, Poland
CATEGORIES:Runmageddon
ATTACH;FMTTYPE=image/jpeg:https://vitarade.com/wp-content/uploads/2023/03/rmg7_a.jpg
END:VEVENT
BEGIN:VEVENT
DTSTART;VALUE=DATE:20230610
DTEND;VALUE=DATE:20230612
DTSTAMP:20260421T144245
CREATED:20230331T111510Z
LAST-MODIFIED:20230518T084542Z
UID:2319-1686355200-1686527999@vitarade.com
SUMMARY:Runmageddon Silesia – Arena Gliwice
DESCRIPTION:Vitarade® na Śląsku\nGotowi na blazy? To śląskie określenie odcisków 😊 Nasz Vitarade Team tak! 10 i 11 czerwca będziemy czekać na Was na starcie kolejnej edycji kultowego Runmageddonu. \nBycie oficjalnym Partnerem Imprezy sprawia\, że możemy dodać wszystkim startującym dodatkowej dawki energii w postaci waszych ulubionych żeli i batonów Vitarade®. \nSzóstkę zwycięzców kategorii Elite nagrodzimy pakietami atrakcyjnych nagród pełnych Waszych ulubionych suplementów od Fitness Authority®. \nW miasteczku czekać będzie nasz namiot\, a w nim to\, co lubicie najbardziej! Konkursy z nagrodami\, degustacje i promocje. \nDo zobaczenia w Silesii.
URL:https://vitarade.com/event/runmageddon-silesia/
LOCATION:Arena Gliwice\, Akademicka 50\, Gliwice\, śląskie\, Poland
CATEGORIES:Runmageddon
ATTACH;FMTTYPE=image/jpeg:https://vitarade.com/wp-content/uploads/2023/03/rmg6_a.jpg
END:VEVENT
BEGIN:VEVENT
DTSTART;VALUE=DATE:20230610
DTEND;VALUE=DATE:20230612
DTSTAMP:20260421T144245
CREATED:20230331T111044Z
LAST-MODIFIED:20230331T111053Z
UID:2313-1686355200-1686527999@vitarade.com
SUMMARY:Ironman Warszawa
DESCRIPTION:Ironman… więcej niż triatlon\nJuż nie możemy się doczekać 10 i 11 czerwca\, żeby spotkać się z Wami w Warszawie na inauguracji cyklu jednej z najbardziej rozpoznawalnych imprez sportowych na Świecie.  \nIronman\, to najbardziej wyczerpujące dystanse\, najlepsi zawodnicy z ponad 80 krajów\, a także mnóstwo imprez towarzyszących dla zawodowców i amatorów. \nOczywiście nie może nas tam zabraknąć. Na wszystkich zawodników i kibiców będziemy czekali z pozytywną dawką energii\, konkursami\, degustacjami i promocjami w naszym firmowym namiocie. \nDo zobaczenia w warszawskim Parku Fontann.
URL:https://vitarade.com/event/ironman-warszawa/
LOCATION:Park Fontann\, Warszawa\, Poland
CATEGORIES:Ironman
ATTACH;FMTTYPE=image/jpeg:https://vitarade.com/wp-content/uploads/2023/03/ironman-warsaw.jpg
END:VEVENT
BEGIN:VEVENT
DTSTART;TZID=Europe/Warsaw:20230527T090000
DTEND;TZID=Europe/Warsaw:20230527T170000
DTSTAMP:20260421T144245
CREATED:20230331T105937Z
LAST-MODIFIED:20230518T073606Z
UID:2306-1685178000-1685206800@vitarade.com
SUMMARY:Orlen Lang Team Race Arłamów
DESCRIPTION:Mamy świetną wiadomość dla miłośników dwóch kółek. 27 maja ruszamy dla Was w Bieszczady.\nMalownicze okolice Hotelu Arłamów i wyczerpująca trasa 75 kilometrów z przewyższeniami ponad 1600 metrów\, po prostu nie mogło nas tam zabraknąć 😊 \nJako oficjalny Partner Orlen Lang Team Race i tym razem przygotowaliśmy dla wszystkich startujących pakiety\, a w nich żele\, batony i saszetki Vitarade® – czyli pełen wyścigowy zestaw wsparcia dla najbardziej wymagających. \nUfundowaliśmy także 50 pakietów nagród pełnych najlepszych suplementów sygnowanych przez Fitness Authority®. A dodatkowo zapewniliśmy ubrania dla całej tworzącej to wydarzenie ekipy! \nNa wszystkich kolarzy i kibiców będziemy czekali z naszym namiotem. Mamy dla Was kolarskie konkursy z atrakcyjnymi nagrodami\, a także promocje i degustacje. \nDo zobaczenia w Arłamowie.
URL:https://vitarade.com/event/orlen-lang-team-race-arlamow/
LOCATION:Hotel Arłamów
CATEGORIES:Orlen Lang Team Race
ATTACH;FMTTYPE=image/jpeg:https://vitarade.com/wp-content/uploads/2023/03/orlen-race1.jpg
END:VEVENT
BEGIN:VEVENT
DTSTART;VALUE=DATE:20230527
DTEND;VALUE=DATE:20230529
DTSTAMP:20260421T144245
CREATED:20230329T140721Z
LAST-MODIFIED:20230331T112838Z
UID:2254-1685145600-1685318399@vitarade.com
SUMMARY:Runmageddon Warszawa
DESCRIPTION:Warszawskie poruszenie\nMacie plany na majowy weekend 27 i 28 maja? My\, niezależnie od pogody\, ruszamy na podbój stolicy. Serdecznie zapraszamy wszystkich spragnionych dodatkowej dawki pozytywnej energii i porządnej porcji wycisku na warszawską odsłonę Runmageddonu. \nDla startujących przygotowaliśmy to\, co lubicie najbardziej pyszne batony i energetyczne żele Vitarade®. Zwycięzcy kategorii Elite dostaną od nas zestawy pełne Waszych ulubionych suplementów od Fitness Authority®. \nW miasteczku eventowym wystawimy się z naszym namiotem\, gdzie czekać będą na Was konkursy z cennymi nagrodami\, a także Wasze ulubione suplementy i degustacje. \nVitarade Team już szykuje się do startów ramię w ramię z Wami. Nie możemy się doczekać wspólnego pokonywania przeszkód i … karnych burpees 😊 \nDo zobaczenia w Stolicy.
URL:https://vitarade.com/event/runmageddon-warszawa/
LOCATION:Warszawa\, Poland
CATEGORIES:Runmageddon
ATTACH;FMTTYPE=image/jpeg:https://vitarade.com/wp-content/uploads/2023/03/rmg3_a.jpg
END:VEVENT
BEGIN:VEVENT
DTSTART;TZID=Europe/Warsaw:20230513T090000
DTEND;TZID=Europe/Warsaw:20230513T170000
DTSTAMP:20260421T144245
CREATED:20230328T134212Z
LAST-MODIFIED:20230331T102212Z
UID:2212-1683968400-1683997200@vitarade.com
SUMMARY:Runmageddon Kraków
DESCRIPTION:Kraków z przeszkodami\nSmok Wawelski zieje może prawdziwym ogniem\, ale najgorętszą atmosferę gwarantuje tam kultowy Runmageddon. Już 13 maja w grodzie Kraka zawitają tysiące miłośników ostrego wyciski i przekraczania własnych granic. Nie może nas tam zabraknąć 😊 \nCo mamy dla Was na tą majową sobotę? To co lubicie najbardziej!  \nWszyscy startujący mogą liczyć na dawkę dodatkowej energii w postaci żeli i batonów. Na odwiedzających nasz Vitarade® – owy namiot czekać będą liczne konkursy z atrakcyjnymi nagrodami\, degustacje i promocje.  \nJako Partner Runmageddonu ufundowaliśmy także nagrody dla trzech najlepszych Zawodników i Zawodniczek w prestiżowej kategorii Elite. \nNasz firmowy Vitarade® Team już trenuje\, żeby pobiec razem z Wami. \nDo zobaczenia w Krakowie
URL:https://vitarade.com/event/runmageddon-krakow/
LOCATION:Kraków\, Kraków\, Poland
CATEGORIES:Runmageddon
ATTACH;FMTTYPE=image/jpeg:https://vitarade.com/wp-content/uploads/2023/03/rmg5_a.jpg
END:VEVENT
BEGIN:VEVENT
DTSTART;TZID=Europe/Warsaw:20230429T090000
DTEND;TZID=Europe/Warsaw:20230430T170000
DTSTAMP:20260421T144245
CREATED:20230309T145207Z
LAST-MODIFIED:20230331T102117Z
UID:1216-1682758800-1682874000@vitarade.com
SUMMARY:Runmageddon Poznań
DESCRIPTION:Poznański Runmageddon\nGotowi na więcej? Zapraszamy na wyższy poziom wytrzymałości podczas kolejnej edycji Runmageddonu. Tym razem będziemy na Was czekać w stolicy Wielkopolski. \nPod czujnym okiem poznańskich koziołków szykujemy się na dwudniową imprezę 29 i 30 kwietnia. Niezależnie od pogody\, będziemy się z Wam świetnie bawić\, udowadniając\, że stara prawda\, iż można być – albo czystym\, albo szczęśliwym – nie ogranicza się tylko do dzieci 😊 \nW naszym firmowym namiocie\, obok ulubionych suplementów\, będą na Was czekały liczne konkursy i degustacje. Koniecznie odwiedźcie nas po dodatkową dawkę pozytywnej energii. \nJako Partner Runmageddonu przekażemy tysiącom startujących żele Vitarade® na bazie niezrównanego Vitargo® oraz bajecznie pyszne batony Carborade®.  \nZwycięzców kategorii Elite powitamy na mecie atrakcyjnymi nagrodami i jak zwykle pobiegniemy razem.  \nDo zobaczenia na Hipodromie Wola.
URL:https://vitarade.com/event/runmageddon-poznan/
LOCATION:Hipodrom Wola\, ul. Lutycka 34\, Poznań\, 60-415\, Poland
CATEGORIES:Runmageddon
ATTACH;FMTTYPE=image/jpeg:https://vitarade.com/wp-content/uploads/2023/03/rmg2_a.jpg
END:VEVENT
BEGIN:VEVENT
DTSTART;TZID=Europe/Warsaw:20230422T090000
DTEND;TZID=Europe/Warsaw:20230422T170000
DTSTAMP:20260421T144245
CREATED:20230309T150100Z
LAST-MODIFIED:20230331T102016Z
UID:1220-1682154000-1682182800@vitarade.com
SUMMARY:Ultrawysoczyzna Elbląg
DESCRIPTION:Ultrawysoczyzna z Vitarade!\nCo Was woła – Pisk Lisa\, Kwik Dzika\, Wycie Wilka\, a może Ryk Jelenia? Wszystkich miłośników leśnych biegów na długie i bardzo długie dystanse zapraszamy w malownicze okolice Elbląga. \n22 kwietnia będziemy z Wami podczas drugiej edycji Ultrawysoczyzny. Szykuje się niezły wycisk. Cztery wyczerpujące trasy\, mnóstwo zakrętów oraz korzeni do pokonania\, chcemy tam z Wami być i wspierać Was na każdym kroku. \nNa wszystkich potrzebujących dodatkowej energii będziemy czekać z naszym namiotem Vitarade®. Specjalnie dla Was przygotowaliśmy degustację najlepszych suplementów\, konkursy i dodatkowe atrakcje. \nDołączcie do Vitarade Team i razem wejdźmy na Wyższy Poziom Wytrzymałości. \nDo zobaczenia w strefie Expo Parku Miejskim Bażantarnia w Elblągu.
URL:https://vitarade.com/event/ultrawysoczyzna-elblag/
LOCATION:Park Miejski Bażantarnia\, ul. Marymoncka 6\, Elbląg\, Poland
CATEGORIES:Ultrawysoczyzna
ATTACH;FMTTYPE=image/jpeg:https://vitarade.com/wp-content/uploads/2023/03/ultrawysoczyzna1_a.jpg
END:VEVENT
BEGIN:VEVENT
DTSTART;VALUE=DATE:20230415
DTEND;VALUE=DATE:20230417
DTSTAMP:20260421T144245
CREATED:20230307T085822Z
LAST-MODIFIED:20230411T102430Z
UID:926-1681516800-1681689599@vitarade.com
SUMMARY:Runmageddon Gdynia
DESCRIPTION:Ostry wycisk w Gdyni!\nNie możemy się już doczekać spotkania z Wami podczas trójmiejskiej edycji fenomenalnego Runmageddonu 15 i 16 kwietnia. \nSzykuje się weekend pełen wyzwań i wrażeń. Po raz pierwszy w tym sezonie wejdziemy w morskie fale. Kochamy Gdynię\, więc będziemy razem z Wami w szerszym składzie naszego Vitarade Team. \nDla wszystkich miłośników dawania sobie w kość jako oficjalny partner Runmageddonu\, ufundowaliśmy do wszystkich pakietów startowych Wasze ulubione batony energetyczne Carborade® i żele Vitarade®. \nNa zwycięzców kategorii Elite będą z kolei czekały paki pełne najlepszych na rynku suplementów i nagrody niespodzianki o wartości ponad 3 tysięcy złotych! \nSzykujemy już kolejne atrakcje i konkursy na nasze stoisko. Koniecznie do nas zajrzyjcie – zastrzyk dodatkowej energii gwarantowany. \nDo zobaczenia na gdyńskich Kolibkach.
URL:https://vitarade.com/event/runmageddon-2/
LOCATION:Park Kolibki\, al. Zwycięstwa 291\, Gdynia\, Pomorskie\, 81-525\, Poland
CATEGORIES:Runmageddon
ATTACH;FMTTYPE=image/jpeg:https://vitarade.com/wp-content/uploads/2023/03/rmg1_a.jpg
END:VEVENT
BEGIN:VEVENT
DTSTART;TZID=Europe/Warsaw:20230401T090000
DTEND;TZID=Europe/Warsaw:20230401T170000
DTSTAMP:20260421T144245
CREATED:20230307T085726Z
LAST-MODIFIED:20230331T101619Z
UID:924-1680339600-1680368400@vitarade.com
SUMMARY:Runmageddon Wrocław
DESCRIPTION:To nie Prima Aprilis!\nJuż 1 kwietnia otworzymy sezon sportowych eventów z udziałem Vitarade® na wrocławskim Runmageddonie.  \nJako Partner imprezy przekażemy do pakietów startowych dla wszystkich uczestników pyszne batony Carborade® i żele Vitarade® oparte na niezawodnym Vitargo®\, a także ufundujemy nagrody dla szóstki zwycięzców prestiżowej kategorii Elite.  \nŻeby Was poznać i zaprosić do Vitarade Team wystawimy nowiutki namiot z naszymi produktami! Przygotowaliśmy dla Was mnóstwo atrakcji\, w tym nasze najlepsze suplementy i gorące nowości! A to nie wszystko – zorganizujemy także degustacje i konkursy\, w których będzie można wygrać darmowe starty w Runmageddonach oraz inne cenne nagrody!  \nNa dokładkę nasz firmowy Vitarade Team wystartuje razem z Wami. Będzie to wspaniała okazja\, aby rozpocząć wspólnie sezon i przeżyć niesamowite emocje\, biegnąc przez kolejne przeszkody.  \nNie możemy się doczekać\, aby spotkać się z Wami na naszym stoisku i na starcie Runmageddonu. \nDo zobaczenia na Tarczyński Arena Wrocław.
URL:https://vitarade.com/event/runmageddon/
LOCATION:Tarczyński Arena\, al. Śląska 1\, Wrocław\, 54-118\, Poland
CATEGORIES:Runmageddon
ATTACH;FMTTYPE=image/jpeg:https://vitarade.com/wp-content/uploads/2023/03/rmg4_a.jpg
END:VEVENT
END:VCALENDAR